BEGIN:VCALENDAR
VERSION:2.0
PRODID:-//LIFTT - ECPv6.13.1//NONSGML v1.0//EN
CALSCALE:GREGORIAN
METHOD:PUBLISH
X-ORIGINAL-URL:https://liftt.org
X-WR-CALDESC:Events for LIFTT
REFRESH-INTERVAL;VALUE=DURATION:PT1H
X-Robots-Tag:noindex
X-PUBLISHED-TTL:PT1H
BEGIN:VTIMEZONE
TZID:America/Denver
BEGIN:DAYLIGHT
TZOFFSETFROM:-0700
TZOFFSETTO:-0600
TZNAME:MDT
DTSTART:20260308T090000
END:DAYLIGHT
BEGIN:STANDARD
TZOFFSETFROM:-0600
TZOFFSETTO:-0700
TZNAME:MST
DTSTART:20261101T080000
END:STANDARD
END:VTIMEZONE
BEGIN:VEVENT
DTSTART;TZID=America/Denver:20260428T113000
DTEND;TZID=America/Denver:20260428T123000
DTSTAMP:20260420T190034
CREATED:20260106T172216Z
LAST-MODIFIED:20260107T005455Z
UID:10006246-1777375800-1777379400@liftt.org
SUMMARY:Tai Chi for Arthritis & Fall Prevention
DESCRIPTION:  \nLIFTT is pleased to present “Tai Chi for Arthritis and Fall Prevention.” Join Nutritional Health Coach Eileen Rodriguez  for a free 30-minute class designed to boost your health and wellness\nTai Chi is a gentle exercise that combines slow\, flowing movements with deep breathing. It reduces stress\, improves range of motion\, balance\, and flexibility\, lowers blood glucose levels\, prevents falls\, and enhances overall well-being.\n\nClasses will be held each Tuesday from 11:30 a.m. to 12:30 p.m in the community room of the LIFTT Building at 1241 Crawford Drive in Billings. For more information\, contact Eileen at (406) 294-5185 or eileenr@liftt.org\nAbout Living Independently for Today & Tomorrow (LIFTT): LIFTT is a Montana 501(c)3 corporation organized as a Center for Independent Living (CIL). With team members based in Billings and Glendive\, LIFTT provides aging and disabled members of the community with programs and services that help empower them to break down the physical\, bureaucratic\, and cultural barriers that prevent them from being fully independent participants in their lives and communities throughout 18 counties in southeastern and south-central Montana: Big Horn\, Carbon\, Carter\, Custer\, Dawson\, Fallon\, Garfield\, Golden Valley\, McCone\, Musselshell\, Powder River\, Prairie\, Richland\, Rosebud\, Stillwater\, Treasure\, Wibaux\, and Yellowstone. For more information\, please visit liftt.org or download our mobile app for your Apple or Android Device. \nYou can donate to LIFTT by clicking here.
URL:https://liftt.org/event/tai-chi/2026-04-28/
LOCATION:Billings LIFTT Office\, 1241 Crawford Drive\, Billings\, MT\, 59102\, United States
CATEGORIES:Health & Wellness Classes
ATTACH;FMTTYPE=image/png:https://liftt.org/wp-content/uploads/LIFTT-Tai-Chi-For-Arthritis-Fall-Prevention-01.2026-1.png
ORGANIZER;CN="Eileen Rodriguez":MAILTO:eileenr@liftt.org
END:VEVENT
END:VCALENDAR