BEGIN:VCALENDAR
VERSION:2.0
PRODID:-//LIFTT - ECPv6.13.1//NONSGML v1.0//EN
CALSCALE:GREGORIAN
METHOD:PUBLISH
X-ORIGINAL-URL:https://liftt.org
X-WR-CALDESC:Events for LIFTT
REFRESH-INTERVAL;VALUE=DURATION:PT1H
X-Robots-Tag:noindex
X-PUBLISHED-TTL:PT1H
BEGIN:VTIMEZONE
TZID:America/Denver
BEGIN:DAYLIGHT
TZOFFSETFROM:-0700
TZOFFSETTO:-0600
TZNAME:MDT
DTSTART:20250309T090000
END:DAYLIGHT
BEGIN:STANDARD
TZOFFSETFROM:-0600
TZOFFSETTO:-0700
TZNAME:MST
DTSTART:20251102T080000
END:STANDARD
BEGIN:DAYLIGHT
TZOFFSETFROM:-0700
TZOFFSETTO:-0600
TZNAME:MDT
DTSTART:20260308T090000
END:DAYLIGHT
BEGIN:STANDARD
TZOFFSETFROM:-0600
TZOFFSETTO:-0700
TZNAME:MST
DTSTART:20261101T080000
END:STANDARD
END:VTIMEZONE
BEGIN:VEVENT
DTSTART;TZID=America/Denver:20260312T160000
DTEND;TZID=America/Denver:20260312T180000
DTSTAMP:20260423T074549
CREATED:20260304T155007Z
LAST-MODIFIED:20260304T155636Z
UID:10006567-1773331200-1773338400@liftt.org
SUMMARY:LIFTT Board of Directors meets March 12
DESCRIPTION:The LIFTT Board of Directors will hold an ordinary meeting on Thursday\, March 12\, 2026\, at 4 p.m. The meeting will be held virtually via Zoom.  The public is invited to attend the meeting and offer comments during the public comment period. \nClick here to view or download the meeting agenda and Zoom invitation for the March 12\, 2026\, LIFTT board of directors meeting. (Adobe PDF) \nAbout Living Independently for Today & Tomorrow (LIFTT): LIFTT is a Montana 501(c)3 corporation organized as a Center for Independent Living (CIL). With team members based in Billings and Glendive\, LIFTT provides aging and disabled members of the community with programs and services that help empower them to break down the physical\, bureaucratic\, and cultural barriers that prevent them from being fully independent participants in their lives and communities throughout 18 counties in southeastern and south-central Montana: Big Horn\, Carbon\, Carter\, Custer\, Dawson\, Fallon\, Garfield\, Golden Valley\, McCone\, Musselshell\, Powder River\, Prairie\, Richland\, Rosebud\, Stillwater\, Treasure\, Wibaux\, and Yellowstone. For more information\, please visit liftt.org or download our mobile app for your Apple or Android Device. \nOur Vision: Empowering aging and disabled individuals to LIFTT themselves above the barriers of life. \nOur Mission: Living Independently for Today and Tomorrow – LIFTT’s mission is to empower aging and disabled individuals to live independently through education\, support\, and opportunities. \nYou can donate to LIFTT by clicking here.
URL:https://liftt.org/event/bod-03122026/
LOCATION:Billings LIFTT Office\, 1241 Crawford Drive\, Billings\, MT\, 59102\, United States
CATEGORIES:LIFTT Board of Directors
ATTACH;FMTTYPE=image/png:https://liftt.org/wp-content/uploads/Board-Meeting.png
END:VEVENT
BEGIN:VEVENT
DTSTART;TZID=America/Denver:20251218T160000
DTEND;TZID=America/Denver:20251218T180000
DTSTAMP:20260423T074549
CREATED:20251209T002254Z
LAST-MODIFIED:20260304T154117Z
UID:10005935-1766073600-1766080800@liftt.org
SUMMARY:LIFTT Board of Directors meets December 18
DESCRIPTION:  \nThe LIFTT Board of Directors will hold an ordinary meeting on Thursday\, December 18\, 2025\, at 4 p.m. The meeting will be held virtually via Zoom.  The public is invited to attend the meeting and offer comments during the public comment period. \nClick here to view or download the meeting agenda and Zoom invitation for the December 18\, 2025\, LIFTT board of directors meeting. (Adobe PDF) \nAbout Living Independently for Today & Tomorrow (LIFTT): LIFTT is a Montana 501(c)3 corporation organized as a Center for Independent Living (CIL). With team members based in Billings and Glendive\, LIFTT provides aging and disabled members of the community with programs and services that help empower them to break down the physical\, bureaucratic\, and cultural barriers that prevent them from being fully independent participants in their lives and communities throughout 18 counties in southeastern and south-central Montana: Big Horn\, Carbon\, Carter\, Custer\, Dawson\, Fallon\, Garfield\, Golden Valley\, McCone\, Musselshell\, Powder River\, Prairie\, Richland\, Rosebud\, Stillwater\, Treasure\, Wibaux\, and Yellowstone. For more information\, please visit liftt.org or download our mobile app for your Apple or Android Device. \nOur Vision: Empowering aging and disabled individuals to LIFTT themselves above the barriers of life. \nOur Mission: Living Independently for Today and Tomorrow – LIFTT’s mission is to empower aging and disabled individuals to live independently through education\, support\, and opportunities. \nYou can donate to LIFTT by clicking here.
URL:https://liftt.org/event/bod-12182025/
LOCATION:Billings LIFTT Office\, 1241 Crawford Drive\, Billings\, MT\, 59102\, United States
CATEGORIES:LIFTT Board of Directors
ATTACH;FMTTYPE=image/png:https://liftt.org/wp-content/uploads/Board-Meeting.png
END:VEVENT
BEGIN:VEVENT
DTSTART;TZID=America/Denver:20251019T080000
DTEND;TZID=America/Denver:20251019T090000
DTSTAMP:20260423T074549
CREATED:20251009T184844Z
LAST-MODIFIED:20251009T184950Z
UID:10005760-1760860800-1760864400@liftt.org
SUMMARY:Extraordinary Board Meeting
DESCRIPTION:The LIFTT board of directors will hold an extraordinary meeting on Sunday\, October 19\, 2025\, at 8 a.m. at the Billings LIFTT office (1241 Crawford Drive). The public is invited to attend and offer comments during the public comment period. \nClick here to view or download the agenda for the October 19\, 2025\, Extraordinary LIFTT Board of Directors meeting. (Adobe PDF) \nAbout Living Independently for Today & Tomorrow (LIFTT): LIFTT is a Montana 501(c)3 corporation organized as a Center for Independent Living (CIL). With team members based in Billings and Glendive\, LIFTT provides aging and disabled members of the community with programs and services that help empower them to break down the physical\, bureaucratic\, and cultural barriers that prevent them from being fully independent participants in their lives and communities throughout 18 counties in southeastern and south-central Montana: Big Horn\, Carbon\, Carter\, Custer\, Dawson\, Fallon\, Garfield\, Golden Valley\, McCone\, Musselshell\, Powder River\, Prairie\, Richland\, Rosebud\, Stillwater\, Treasure\, Wibaux\, and Yellowstone. For more information\, please visit liftt.org or download our mobile app for your Apple or Android Device. \nOur Vision: Empowering aging and disabled individuals to LIFTT themselves above the barriers of life. \nOur Mission: Living Independently for Today and Tomorrow – LIFTT’s mission is to empower aging and disabled individuals to live independently through education\, support\, and opportunities. \nYou can donate to LIFTT by clicking here.
URL:https://liftt.org/event/extraordinary-board-meeting-10192025/
LOCATION:Billings LIFTT Office\, 1241 Crawford Drive\, Billings\, MT\, 59102\, United States
CATEGORIES:LIFTT Board of Directors
ATTACH;FMTTYPE=image/png:https://liftt.org/wp-content/uploads/Extraordinary-Meeting.png
END:VEVENT
BEGIN:VEVENT
DTSTART;TZID=America/Denver:20251018T080000
DTEND;TZID=America/Denver:20251018T090000
DTSTAMP:20260423T074549
CREATED:20251008T205444Z
LAST-MODIFIED:20251008T213211Z
UID:10005759-1760774400-1760778000@liftt.org
SUMMARY:Extraordinary Board Meeting
DESCRIPTION:The LIFTT board of directors will hold an extraordinary meeting on Saturday\, October 18\, 2025\, at 8 a.m. at the Billings LIFTT office (1241 Crawford Drive). The public is invited to attend and offer comments during the public comment period. \nClick here to view or download the agenda for the October 18\, 2025\, Extraordinary LIFTT Board of Directors meeting. (Adobe PDF) \nAbout Living Independently for Today & Tomorrow (LIFTT): LIFTT is a Montana 501(c)3 corporation organized as a Center for Independent Living (CIL). With team members based in Billings and Glendive\, LIFTT provides aging and disabled members of the community with programs and services that help empower them to break down the physical\, bureaucratic\, and cultural barriers that prevent them from being fully independent participants in their lives and communities throughout 18 counties in southeastern and south-central Montana: Big Horn\, Carbon\, Carter\, Custer\, Dawson\, Fallon\, Garfield\, Golden Valley\, McCone\, Musselshell\, Powder River\, Prairie\, Richland\, Rosebud\, Stillwater\, Treasure\, Wibaux\, and Yellowstone. For more information\, please visit liftt.org or download our mobile app for your Apple or Android Device. \nOur Vision: Empowering aging and disabled individuals to LIFTT themselves above the barriers of life. \nOur Mission: Living Independently for Today and Tomorrow – LIFTT’s mission is to empower aging and disabled individuals to live independently through education\, support\, and opportunities. \nYou can donate to LIFTT by clicking here.
URL:https://liftt.org/event/extraordinary-board-meeting-10182025/
LOCATION:Billings LIFTT Office\, 1241 Crawford Drive\, Billings\, MT\, 59102\, United States
CATEGORIES:LIFTT Board of Directors
ATTACH;FMTTYPE=image/png:https://liftt.org/wp-content/uploads/Extraordinary-Meeting.png
END:VEVENT
BEGIN:VEVENT
DTSTART;TZID=America/Denver:20251007T080000
DTEND;TZID=America/Denver:20251007T090000
DTSTAMP:20260423T074549
CREATED:20250924T202659Z
LAST-MODIFIED:20250924T202845Z
UID:10005721-1759824000-1759827600@liftt.org
SUMMARY:Board of Directors Annual Meeting
DESCRIPTION:The Board of Directors of Living Independently for Today & Tomorrow (LIFTT) will hold its Annual Meeting on Sunday\, October 7\, 2025\, beginning at 8 a.m. at the Billings LIFTT office (1241 Crawford Drive). The public is invited to attend and offer comments during the designated public comment period. The purpose of the Annual Meeting is to elect new board officers for Fiscal Year 2026. \nClick here to view or download the agenda for the October 5\, 2025\, Annual Meeting of the LIFTT Board of Directors (Adobe PDF)  
URL:https://liftt.org/event/bod-annual-meeting-10052025/
LOCATION:Billings LIFTT Office\, 1241 Crawford Drive\, Billings\, MT\, 59102\, United States
CATEGORIES:LIFTT Board of Directors
ATTACH;FMTTYPE=image/png:https://liftt.org/wp-content/uploads/Annual-Meeting.png
END:VEVENT
BEGIN:VEVENT
DTSTART;TZID=America/Denver:20250904T080000
DTEND;TZID=America/Denver:20250904T170000
DTSTAMP:20260423T074549
CREATED:20250827T183124Z
LAST-MODIFIED:20250827T183124Z
UID:10005611-1756972800-1757005200@liftt.org
SUMMARY:Board of Directors Meeting
DESCRIPTION:The LIFTT Board of Directors will hold an ordinary meeting on Thursday\, September 4\, 2025\, at 4 p.m. The meeting will be held virtually using the Zoom platform.  The public is invited to attend the meeting and offer comments during the public comment period. \nClick here to view or download the meeting agenda and Zoom invitation for the September 4\, 2025\, LIFTT board of directors meeting. (Adobe PDF) \nAbout Living Independently for Today & Tomorrow (LIFTT): LIFTT is a Montana 501(c)3 corporation organized as a Center for Independent Living (CIL). With team members based in Billings and Glendive\, LIFTT provides aging and disabled members of the community with programs and services that help empower them to break down the physical\, bureaucratic\, and cultural barriers that prevent them from being fully independent participants in their lives and communities throughout 18 counties in southeastern and south-central Montana: Big Horn\, Carbon\, Carter\, Custer\, Dawson\, Fallon\, Garfield\, Golden Valley\, McCone\, Musselshell\, Powder River\, Prairie\, Richland\, Rosebud\, Stillwater\, Treasure\, Wibaux\, and Yellowstone. For more information\, please visit liftt.org or download our mobile app for your Apple or Android Device. \nYou can donate to LIFTT by clicking here
URL:https://liftt.org/event/bod-09042025/
LOCATION:Billings LIFTT Office\, 1241 Crawford Drive\, Billings\, MT\, 59102\, United States
CATEGORIES:LIFTT Board of Directors
ATTACH;FMTTYPE=image/png:https://liftt.org/wp-content/uploads/Board-Meeting.png
END:VEVENT
END:VCALENDAR