BEGIN:VCALENDAR
VERSION:2.0
PRODID:-//LIFTT - ECPv6.13.1//NONSGML v1.0//EN
CALSCALE:GREGORIAN
METHOD:PUBLISH
X-WR-CALNAME:LIFTT
X-ORIGINAL-URL:https://liftt.org
X-WR-CALDESC:Events for LIFTT
REFRESH-INTERVAL;VALUE=DURATION:PT1H
X-Robots-Tag:noindex
X-PUBLISHED-TTL:PT1H
BEGIN:VTIMEZONE
TZID:America/Denver
BEGIN:DAYLIGHT
TZOFFSETFROM:-0700
TZOFFSETTO:-0600
TZNAME:MDT
DTSTART:20250309T090000
END:DAYLIGHT
BEGIN:STANDARD
TZOFFSETFROM:-0600
TZOFFSETTO:-0700
TZNAME:MST
DTSTART:20251102T080000
END:STANDARD
END:VTIMEZONE
BEGIN:VEVENT
DTSTART;VALUE=DATE:20251028
DTEND;VALUE=DATE:20251029
DTSTAMP:20260422T043729
CREATED:20250606T173636Z
LAST-MODIFIED:20250606T173714Z
UID:10001404-1761609600-1761695999@liftt.org
SUMMARY:Outreach to Richland County
DESCRIPTION:LIFTTing up our communities: Richland County \nAs part of ongoing efforts to ensure that LIFTT’s programs and services reach every corner of our service area\, Outreach Coordinator Monica Anderson spends the fourth Tuesday of each month in Richland conducting outreach to community partners\, local government\, healthcare facilities\, schools\, businesses\, and religious and civic organizations. \nIf you are in Richland County and would like to schedule a meeting on the fourth Tuesday of the month with Monica to learn more about LIFTT\, please don’t hesitate to contact her at (406) 948-8106 or email monicaa@liftt.org.
URL:https://liftt.org/event/outreach-to-richland-county/2025-10-28/
LOCATION:MT
CATEGORIES:Outreach
END:VEVENT
BEGIN:VEVENT
DTSTART;TZID=America/Denver:20251028T133000
DTEND;TZID=America/Denver:20251028T140000
DTSTAMP:20260422T043729
CREATED:20250608T204424Z
LAST-MODIFIED:20250807T183314Z
UID:10004215-1761658200-1761660000@liftt.org
SUMMARY:Living Well in Montana Tapings
DESCRIPTION:  \n \nEach week\, in partnership with Billings Community 7 TV\, LIFTT Team members host a show called & “Living Well in Montana\,” where they provide updates on LIFTT’s programs and services and interview local\, regional\, and national experts on topics of interest to the disability community in our 18-county service area. \nYou can catch each episode on Community 7 TV\, starting one to two days after the taping date. Episodes are also available online through Community 7’s video-on-demand site\, LIFTT’s website\, and YouTube channel within a few days after taping. \nAbout Living Independently for Today & Tomorrow (LIFTT): LIFTT is a Montana 501(c)3 corporation organized as a Center for Independent Living (CIL). With team members based in Billings and Glendive\, LIFTT provides aging and disabled members of the community with programs and services that help empower them to break down the physical\, bureaucratic\, and cultural barriers that prevent them from being fully independent participants in their lives and communities throughout 18 counties in southeastern and south-central Montana: Big Horn\, Carbon\, Carter\, Custer\, Dawson\, Fallon\, Garfield\, Golden Valley\, McCone\, Musselshell\, Powder River\, Prairie\, Richland\, Rosebud\, Stillwater\, Treasure\, Wibaux\, and Yellowstone. For more information\, please visit liftt.org or download our mobile app for your Apple or Android Device. \nYou can donate to LIFTT by clicking here. \n 
URL:https://liftt.org/event/living-well-in-montana/2025-10-28/
LOCATION:MT
CATEGORIES:Outreach
ATTACH;FMTTYPE=image/png:https://liftt.org/wp-content/uploads/LWM-Calendar-06.2025.png
END:VEVENT
BEGIN:VEVENT
DTSTART;TZID=America/Denver:20251031T140000
DTEND;TZID=America/Denver:20251031T170000
DTSTAMP:20260422T043729
CREATED:20251028T185821Z
LAST-MODIFIED:20251028T193210Z
UID:10005799-1761919200-1761930000@liftt.org
SUMMARY:Glendive Trick or Treat Trail
DESCRIPTION:LIFTT’s Glendive Office will once again be welcoming trick-or-treaters on Halloween afternoon as part of the Glendive Ranger-Review’s Trick or Treat Trail. So grab your little ghosts and ghouls and stop by 119. S Kendrick Avenue between 2-5 p.m. for a holiday treat and to find out more about the programs and services being offered to the community by LIFTT. \nAbout Living Independently for Today & Tomorrow (LIFTT): LIFTT is a Montana 501(c)3 corporation organized as a Center for Independent Living (CIL). With team members based in Billings and Glendive\, LIFTT provides aging and disabled members of the community with programs and services that help empower them to break down the physical\, bureaucratic\, and cultural barriers that prevent them from being fully independent participants in their lives and communities throughout 18 counties in southeastern and south-central Montana: Big Horn\, Carbon\, Carter\, Custer\, Dawson\, Fallon\, Garfield\, Golden Valley\, McCone\, Musselshell\, Powder River\, Prairie\, Richland\, Rosebud\, Stillwater\, Treasure\, Wibaux\, and Yellowstone. For more information\, please visit liftt.org or download our mobile app for your Apple or Android Device. \nOur Vision: Empowering aging and disabled individuals to LIFTT themselves above the barriers of life. \nOur Mission: Living Independently for Today and Tomorrow – LIFTT’s mission is to empower aging and disabled individuals to live independently through education\, support\, and opportunities. \nYou can donate to LIFTT by clicking here.
URL:https://liftt.org/event/trick-or-treat-trail-10312025/
LOCATION:Glendive LIFTT Office\, 119 S. Kendrick Avenue\, Glendive\, MT\, 59330\, United States
CATEGORIES:Outreach
ATTACH;FMTTYPE=image/png:https://liftt.org/wp-content/uploads/Glendive-Trick-or-Treat-10.31.2025.png
END:VEVENT
END:VCALENDAR