BEGIN:VCALENDAR
VERSION:2.0
PRODID:-//LIFTT - ECPv6.13.1//NONSGML v1.0//EN
CALSCALE:GREGORIAN
METHOD:PUBLISH
X-WR-CALNAME:LIFTT
X-ORIGINAL-URL:https://liftt.org
X-WR-CALDESC:Events for LIFTT
REFRESH-INTERVAL;VALUE=DURATION:PT1H
X-Robots-Tag:noindex
X-PUBLISHED-TTL:PT1H
BEGIN:VTIMEZONE
TZID:America/Denver
BEGIN:DAYLIGHT
TZOFFSETFROM:-0700
TZOFFSETTO:-0600
TZNAME:MDT
DTSTART:20250309T090000
END:DAYLIGHT
BEGIN:STANDARD
TZOFFSETFROM:-0600
TZOFFSETTO:-0700
TZNAME:MST
DTSTART:20251102T080000
END:STANDARD
END:VTIMEZONE
BEGIN:VEVENT
DTSTART;VALUE=DATE:20251209
DTEND;VALUE=DATE:20251210
DTSTAMP:20260421T225630
CREATED:20250606T171903Z
LAST-MODIFIED:20251024T204607Z
UID:10001324-1765238400-1765324799@liftt.org
SUMMARY:Outreach to Custer & Powder River Counties
DESCRIPTION:LIFTTing up our communities: Custer & Powder River Counties  \nAs part of ongoing efforts to ensure that LIFTT’s programs and services reach every corner of our service area\, Outreach Coordinator Monica Anderson spends the second Tuesday of each month in Custer and Powder River Counties conducting outreach to community partners\, local government\, health care facilities\, schools\, businesses\, religious and civic organizations. \nIf you are in Custer or Powder River Counties and would like to schedule some time on the second Tuesday of the month to meet with Monica and find out more about LIFTT\, please give her a call at (406) 948-8106or send an email to monicaa@liftt.org.
URL:https://liftt.org/event/outreach-to-custer-powder-river-counties/2025-12-09/
LOCATION:Billings LIFTT Office\, 1241 Crawford Drive\, Billings\, MT\, 59102\, United States
CATEGORIES:Outreach
END:VEVENT
BEGIN:VEVENT
DTSTART;TZID=America/Denver:20251209T133000
DTEND;TZID=America/Denver:20251209T140000
DTSTAMP:20260421T225630
CREATED:20250608T204424Z
LAST-MODIFIED:20250807T183314Z
UID:10004221-1765287000-1765288800@liftt.org
SUMMARY:Living Well in Montana Tapings
DESCRIPTION:  \n \nEach week\, in partnership with Billings Community 7 TV\, LIFTT Team members host a show called & “Living Well in Montana\,” where they provide updates on LIFTT’s programs and services and interview local\, regional\, and national experts on topics of interest to the disability community in our 18-county service area. \nYou can catch each episode on Community 7 TV\, starting one to two days after the taping date. Episodes are also available online through Community 7’s video-on-demand site\, LIFTT’s website\, and YouTube channel within a few days after taping. \nAbout Living Independently for Today & Tomorrow (LIFTT): LIFTT is a Montana 501(c)3 corporation organized as a Center for Independent Living (CIL). With team members based in Billings and Glendive\, LIFTT provides aging and disabled members of the community with programs and services that help empower them to break down the physical\, bureaucratic\, and cultural barriers that prevent them from being fully independent participants in their lives and communities throughout 18 counties in southeastern and south-central Montana: Big Horn\, Carbon\, Carter\, Custer\, Dawson\, Fallon\, Garfield\, Golden Valley\, McCone\, Musselshell\, Powder River\, Prairie\, Richland\, Rosebud\, Stillwater\, Treasure\, Wibaux\, and Yellowstone. For more information\, please visit liftt.org or download our mobile app for your Apple or Android Device. \nYou can donate to LIFTT by clicking here. \n 
URL:https://liftt.org/event/living-well-in-montana/2025-12-09/
LOCATION:MT
CATEGORIES:Outreach
ATTACH;FMTTYPE=image/png:https://liftt.org/wp-content/uploads/LWM-Calendar-06.2025.png
END:VEVENT
BEGIN:VEVENT
DTSTART;VALUE=DATE:20251210
DTEND;VALUE=DATE:20251211
DTSTAMP:20260421T225630
CREATED:20250606T172134Z
LAST-MODIFIED:20250606T172143Z
UID:10001331-1765324800-1765411199@liftt.org
SUMMARY:Outreach to Rosebud County
DESCRIPTION:LIFTTing up our communities: Rosebud County  \nAs part of ongoing efforts to ensure that LIFTT’s programs and services reach every corner of our service area\, Outreach Coordinator Monica Anderson spends the second Wednesday of each month in Rosebud County conducting outreach to community partners\, local government\, healthcare facilities\, schools\, businesses\, and religious and civic organizations. \nIf you are in Rosebud County and would like to schedule some time on the second Wednesday of the month to meet with Monica and find out more about LIFTT\, please give her a call at (406) 948-8106 or send an email to monicaa@liftt.org.
URL:https://liftt.org/event/outreach-to-rosebud-county/2025-12-10/
LOCATION:MT
CATEGORIES:Outreach
END:VEVENT
END:VCALENDAR