BEGIN:VCALENDAR
VERSION:2.0
PRODID:-//LIFTT - ECPv6.13.1//NONSGML v1.0//EN
CALSCALE:GREGORIAN
METHOD:PUBLISH
X-ORIGINAL-URL:https://liftt.org
X-WR-CALDESC:Events for LIFTT
REFRESH-INTERVAL;VALUE=DURATION:PT1H
X-Robots-Tag:noindex
X-PUBLISHED-TTL:PT1H
BEGIN:VTIMEZONE
TZID:America/Denver
BEGIN:DAYLIGHT
TZOFFSETFROM:-0700
TZOFFSETTO:-0600
TZNAME:MDT
DTSTART:20260308T090000
END:DAYLIGHT
BEGIN:STANDARD
TZOFFSETFROM:-0600
TZOFFSETTO:-0700
TZNAME:MST
DTSTART:20261101T080000
END:STANDARD
END:VTIMEZONE
BEGIN:VEVENT
DTSTART;TZID=America/Denver:20260310T133000
DTEND;TZID=America/Denver:20260310T140000
DTSTAMP:20260419T073927
CREATED:20250608T204424Z
LAST-MODIFIED:20250807T183314Z
UID:10004234-1773149400-1773151200@liftt.org
SUMMARY:Living Well in Montana Tapings
DESCRIPTION:  \n \nEach week\, in partnership with Billings Community 7 TV\, LIFTT Team members host a show called & “Living Well in Montana\,” where they provide updates on LIFTT’s programs and services and interview local\, regional\, and national experts on topics of interest to the disability community in our 18-county service area. \nYou can catch each episode on Community 7 TV\, starting one to two days after the taping date. Episodes are also available online through Community 7’s video-on-demand site\, LIFTT’s website\, and YouTube channel within a few days after taping. \nAbout Living Independently for Today & Tomorrow (LIFTT): LIFTT is a Montana 501(c)3 corporation organized as a Center for Independent Living (CIL). With team members based in Billings and Glendive\, LIFTT provides aging and disabled members of the community with programs and services that help empower them to break down the physical\, bureaucratic\, and cultural barriers that prevent them from being fully independent participants in their lives and communities throughout 18 counties in southeastern and south-central Montana: Big Horn\, Carbon\, Carter\, Custer\, Dawson\, Fallon\, Garfield\, Golden Valley\, McCone\, Musselshell\, Powder River\, Prairie\, Richland\, Rosebud\, Stillwater\, Treasure\, Wibaux\, and Yellowstone. For more information\, please visit liftt.org or download our mobile app for your Apple or Android Device. \nYou can donate to LIFTT by clicking here. \n 
URL:https://liftt.org/event/living-well-in-montana/2026-03-10/
LOCATION:MT
CATEGORIES:Outreach
ATTACH;FMTTYPE=image/png:https://liftt.org/wp-content/uploads/LWM-Calendar-06.2025.png
END:VEVENT
END:VCALENDAR