BEGIN:VCALENDAR
VERSION:2.0
PRODID:-//LIFTT - ECPv6.13.1//NONSGML v1.0//EN
CALSCALE:GREGORIAN
METHOD:PUBLISH
X-ORIGINAL-URL:https://liftt.org
X-WR-CALDESC:Events for LIFTT
REFRESH-INTERVAL;VALUE=DURATION:PT1H
X-Robots-Tag:noindex
X-PUBLISHED-TTL:PT1H
BEGIN:VTIMEZONE
TZID:America/Denver
BEGIN:DAYLIGHT
TZOFFSETFROM:-0700
TZOFFSETTO:-0600
TZNAME:MDT
DTSTART:20250309T090000
END:DAYLIGHT
BEGIN:STANDARD
TZOFFSETFROM:-0600
TZOFFSETTO:-0700
TZNAME:MST
DTSTART:20251102T080000
END:STANDARD
END:VTIMEZONE
BEGIN:VEVENT
DTSTART;TZID=America/Denver:20250906T100000
DTEND;TZID=America/Denver:20250906T150000
DTSTAMP:20260421T092822
CREATED:20250903T202707Z
LAST-MODIFIED:20250903T205814Z
UID:10005645-1757152800-1757170800@liftt.org
SUMMARY:upLIFTT Thrift Grand Opening
DESCRIPTION:  \nA grand opening celebration for upLIFTT Thrift will be held on Saturday\, September 6\, 2025\, from 10 a.m. to 3 p.m. at the store located at 1201 Grand Avenue in Billings. Join in the fun at the official opening of Billings’ newest thrift store\, where all the proceeds go towards LIFTT’s mission of furthering the independence of people with disabilities. \nIn addition to a chance to check out the unique shopping experience and support LIFTT\, there will be special deals and events\, including: \n\nEverything in the store will be 10% off its marked price.\nA free upcycling class with Penny Beard at 11 a.m. Learn how to turn mason jars into tissue holders and other ways to reuse the stuff that is just lying around.\nA bake sale featuring cookies\, brownies\, cake pops\, and other goodies!\nCoach Raffle Drawings at 12 p.m. and 2 p.m. Tickets are $3 apiece\, and you must be present to win.\n\nAt 12 p.m.\, the drawing will be for a Coach umbrella\nAt 2 p.m.\, the drawing will be for a Coach sunglasses case.\n\n\n\n  \nupLIFTT Thrift is located at 1201 Grand Avenue # 1 in Billings\, and its regular hours are Tuesday-Friday 10 a.m. to 5 p.m. and Saturdays 10 a.m. to 3 p.m. For more information about upLIFTT Thrift\, the Grand Opening\, or to arrange to donate your gently used items\, contact Kylie Kotrc\, store manager (406) 534-1147 or kyliek@liftt.org \n  \nAbout Living Independently for Today & Tomorrow (LIFTT): LIFTT is a Montana 501(c)3 corporation organized as a Center for Independent Living (CIL). With team members based in Billings and Glendive\, LIFTT provides aging and disabled members of the community with programs and services that help empower them to break down the physical\, bureaucratic\, and cultural barriers that prevent them from being fully independent participants in their lives and communities throughout 18 counties in southeastern and south-central Montana: Big Horn\, Carbon\, Carter\, Custer\, Dawson\, Fallon\, Garfield\, Golden Valley\, McCone\, Musselshell\, Powder River\, Prairie\, Richland\, Rosebud\, Stillwater\, Treasure\, Wibaux\, and Yellowstone. For more information\, please visit liftt.org or download our mobile app for your Apple or Android Device. \nYou can donate to LIFTT by clicking here.
URL:https://liftt.org/event/upliftt-thrift-grand-opening/
LOCATION:UpLIFTT Thrift\, 1201 Grand Avenue\, Billings\, MT\, 59102\, United States
CATEGORIES:UpLIFTT
ATTACH;FMTTYPE=image/png:https://liftt.org/wp-content/uploads/upLIFTT-Grand-Opening-09.06.2025-1.png
END:VEVENT
END:VCALENDAR