BEGIN:VCALENDAR
VERSION:2.0
PRODID:-//LIFTT - ECPv6.13.1//NONSGML v1.0//EN
CALSCALE:GREGORIAN
METHOD:PUBLISH
X-ORIGINAL-URL:https://liftt.org
X-WR-CALDESC:Events for LIFTT
REFRESH-INTERVAL;VALUE=DURATION:PT1H
X-Robots-Tag:noindex
X-PUBLISHED-TTL:PT1H
BEGIN:VTIMEZONE
TZID:America/Denver
BEGIN:DAYLIGHT
TZOFFSETFROM:-0700
TZOFFSETTO:-0600
TZNAME:MDT
DTSTART:20260308T090000
END:DAYLIGHT
BEGIN:STANDARD
TZOFFSETFROM:-0600
TZOFFSETTO:-0700
TZNAME:MST
DTSTART:20261101T080000
END:STANDARD
END:VTIMEZONE
BEGIN:VEVENT
DTSTART;TZID=America/Denver:20260330T160000
DTEND;TZID=America/Denver:20260330T170000
DTSTAMP:20260420T205315
CREATED:20260320T200759Z
LAST-MODIFIED:20260401T155010Z
UID:10006570-1774886400-1774890000@liftt.org
SUMMARY:Parent-Child Communication Workshop
DESCRIPTION:Join LIFTT Regional Manager Jen Hawkinson for this informative workshop as she shares insights and answers your questions on improving communication between parents and children.\n\nDate: Monday\, March 30\, 2026\nTime: 4 p.m. to 5 p.m. MT\nWhere: Glendive Public Library (200 S. Kendrick Avenue) or Virtually (https://teams.microsoft.com/meet/24365529483042?p=HhVdSZTmMPY9rd9ktO)\n\nFor more information about the Parent-Child Communication Workshop\, contact Jen Hawkinson at (406) 948-8503 or jenh@liftt.org.\n\n\nAbout Living Independently for Today & Tomorrow (LIFTT): LIFTT is a Montana 501(c)3 corporation organized as a Center for Independent Living (CIL). With team members based in Billings and Glendive\, LIFTT provides aging and disabled members of the community with programs and services that help empower them to break down the physical\, bureaucratic\, and cultural barriers that prevent them from being fully independent participants in their lives and communities throughout 18 counties in southeastern and south-central Montana: Big Horn\, Carbon\, Carter\, Custer\, Dawson\, Fallon\, Garfield\, Golden Valley\, McCone\, Musselshell\, Powder River\, Prairie\, Richland\, Rosebud\, Stillwater\, Treasure\, Wibaux\, and Yellowstone. For more information\, please visit liftt.org or download our mobile app for your Apple device. \nOur Vision: Empowering aging and disabled individuals to LIFTT themselves above the barriers of life. \nOur Mission: Living Independently for Today and Tomorrow – LIFTT’s mission is to empower aging and disabled individuals to live independently through education\, support\, and opportunities. \nYou can donate to LIFTT by clicking here.
URL:https://liftt.org/event/parent-child-communication-workshop-03302026/
LOCATION:Glendive Public Library\, 200 S. Kendrick Avenue\, Glendive\, MT\, 59330\, United States
END:VEVENT
END:VCALENDAR